BEGIN:VCALENDAR
VERSION:2.0
CALSCALE:GREGORIAN
PRODID:adamgibbons/ics
METHOD:PUBLISH
X-PUBLISHED-TTL:PT1H
BEGIN:VEVENT
UID:2286@devent.cz
SUMMARY:XXIV. ANTIFA FEST
DTSTAMP:20260421T103711Z
DTSTART:20260421T140000Z
DTEND:20260426T100000Z
URL:https://devent.cz/event/xxiv-antifa-fest
GEO:46.0569137;14.5169257
LOCATION:PLAC\, Linhartova 43 in AKC Metelkova Mesto - Ljubljana
STATUS:CONFIRMED
CATEGORIES:AKC Metelkova Mesto,Koncert,Plac,antifa fest,antifašizem,diy
END:VEVENT
END:VCALENDAR
